BEGIN:VCALENDAR
VERSION:2.0
PRODID:-//Solomon&#039;s Knot - ECPv6.15.20//NONSGML v1.0//EN
CALSCALE:GREGORIAN
METHOD:PUBLISH
X-WR-CALNAME:Solomon&#039;s Knot
X-ORIGINAL-URL:https://www.solomonsknot.co.uk
X-WR-CALDESC:Events for Solomon&#039;s Knot
REFRESH-INTERVAL;VALUE=DURATION:PT1H
X-Robots-Tag:noindex
X-PUBLISHED-TTL:PT1H
BEGIN:VTIMEZONE
TZID:Europe/London
BEGIN:DAYLIGHT
TZOFFSETFROM:+0000
TZOFFSETTO:+0100
TZNAME:BST
DTSTART:20090329T010000
END:DAYLIGHT
BEGIN:STANDARD
TZOFFSETFROM:+0100
TZOFFSETTO:+0000
TZNAME:GMT
DTSTART:20091025T010000
END:STANDARD
BEGIN:DAYLIGHT
TZOFFSETFROM:+0000
TZOFFSETTO:+0100
TZNAME:BST
DTSTART:20100328T010000
END:DAYLIGHT
BEGIN:STANDARD
TZOFFSETFROM:+0100
TZOFFSETTO:+0000
TZNAME:GMT
DTSTART:20101031T010000
END:STANDARD
BEGIN:DAYLIGHT
TZOFFSETFROM:+0000
TZOFFSETTO:+0100
TZNAME:BST
DTSTART:20110327T010000
END:DAYLIGHT
BEGIN:STANDARD
TZOFFSETFROM:+0100
TZOFFSETTO:+0000
TZNAME:GMT
DTSTART:20111030T010000
END:STANDARD
END:VTIMEZONE
BEGIN:VEVENT
DTSTART;TZID=Europe/London:20100227T193000
DTEND;TZID=Europe/London:20100227T193000
DTSTAMP:20260420T104959
CREATED:20220814T185337Z
LAST-MODIFIED:20220913T062737Z
UID:986-1267299000-1267299000@www.solomonsknot.co.uk
SUMMARY:Musical Tears
DESCRIPTION:M-A Charpentier Magnificat à 3\, Messe des morts à 4 H.7\, Le Reniement de St Pierre H.424\nG Carissimi Missa a tre\, Jephte\nM Marais Passacaille en mi mineur \nSolomon Consort\nDirector Jonathan Sells \nDessus Aoife Miskelly\, Anna Dennis\, Lucy Page\nContretenor Michal Czerniawski\nHaute-contre Benjamin Breakwell\nTaille Julian Forbes\, John McMunn\nBasse Jonathan Sells\, James Oldfield\nFlute Marta Gonçalves\nTreble viol Liam Byrne\, Caroline Ritchie\nViola da gamba Henrik Persson\nTheorbo Manuel Minguillón\nOrgue Florian Carré
URL:https://www.solomonsknot.co.uk/event/2010-02-27-musical-tears/
LOCATION:St John’s Smith Square\, London\, St John's Smith Square\, London\, SW1P 3HA\, United Kingdom
CATEGORIES:Concert,Past Performance
ATTACH;FMTTYPE=image/jpeg:https://www.solomonsknot.co.uk/wp-content/uploads/2022/08/Flyer_A5-1.jpg
GEO:51.4959978;-0.1270108
X-APPLE-STRUCTURED-LOCATION;VALUE=URI;X-ADDRESS=St John’s Smith Square London St John's Smith Square London SW1P 3HA United Kingdom;X-APPLE-RADIUS=500;X-TITLE=St John's Smith Square:geo:-0.1270108,51.4959978
END:VEVENT
END:VCALENDAR