BEGIN:VCALENDAR
VERSION:2.0
PRODID:-//Solomon&#039;s Knot - ECPv6.15.20//NONSGML v1.0//EN
CALSCALE:GREGORIAN
METHOD:PUBLISH
X-WR-CALNAME:Solomon&#039;s Knot
X-ORIGINAL-URL:https://www.solomonsknot.co.uk
X-WR-CALDESC:Events for Solomon&#039;s Knot
REFRESH-INTERVAL;VALUE=DURATION:PT1H
X-Robots-Tag:noindex
X-PUBLISHED-TTL:PT1H
BEGIN:VTIMEZONE
TZID:Europe/London
BEGIN:DAYLIGHT
TZOFFSETFROM:+0000
TZOFFSETTO:+0100
TZNAME:BST
DTSTART:20090329T010000
END:DAYLIGHT
BEGIN:STANDARD
TZOFFSETFROM:+0100
TZOFFSETTO:+0000
TZNAME:GMT
DTSTART:20091025T010000
END:STANDARD
BEGIN:DAYLIGHT
TZOFFSETFROM:+0000
TZOFFSETTO:+0100
TZNAME:BST
DTSTART:20100328T010000
END:DAYLIGHT
BEGIN:STANDARD
TZOFFSETFROM:+0100
TZOFFSETTO:+0000
TZNAME:GMT
DTSTART:20101031T010000
END:STANDARD
BEGIN:DAYLIGHT
TZOFFSETFROM:+0000
TZOFFSETTO:+0100
TZNAME:BST
DTSTART:20110327T010000
END:DAYLIGHT
BEGIN:STANDARD
TZOFFSETFROM:+0100
TZOFFSETTO:+0000
TZNAME:GMT
DTSTART:20111030T010000
END:STANDARD
END:VTIMEZONE
BEGIN:VEVENT
DTSTART;TZID=Europe/London:20101210T203000
DTEND;TZID=Europe/London:20101210T203000
DTSTAMP:20260420T122522
CREATED:20220814T185337Z
LAST-MODIFIED:20220903T083521Z
UID:985-1292013000-1292013000@www.solomonsknot.co.uk
SUMMARY:Music for Mazarin
DESCRIPTION:Monteverdi Zefiro torna\, Lamento d’Arianna\, Ohimè ch’io cado\, Pur ti miro (L’incoronazione di Poppea)\nFrescobaldi Se l’aura spira\nM-A Charpentier Celle qui fait tout mon tourment\nMichel Lambert Ombre de mon amant\, Vos mépris chaque jour\nMarais Pièces en trio (1692) – Prélude (orig. E minor)\, Caprice (orig. E minor)\nL Rossi Mio ben (Orfeo)\nLully Chaconne & Bel tempo che vola (Le bourgeois gentilhomme) \nSolomon Consort\nDirector/harpsichord James Halliday \nSoprano Claire Debono\nMezzo-soprano Ciara Hendrick\nViola da gamba Liam Byrne\nTheorbo Lynda Sayce\nChitarrone/baroque guitar Manuel Minguillón \nSecond\, private performance in Farnham on 11 December 2010
URL:https://www.solomonsknot.co.uk/event/2010-12-10-music-for-mazarin/
LOCATION:The Temple Church\, London\, Temple\, London\, EC4Y 1AF\, United Kingdom
CATEGORIES:Concert,Past Performance
ATTACH;FMTTYPE=image/jpeg:https://www.solomonsknot.co.uk/wp-content/uploads/2022/08/temple-church-inside.jpeg
GEO:51.5136598;-0.110969
X-APPLE-STRUCTURED-LOCATION;VALUE=URI;X-ADDRESS=The Temple Church London Temple London EC4Y 1AF United Kingdom;X-APPLE-RADIUS=500;X-TITLE=Temple:geo:-0.110969,51.5136598
END:VEVENT
END:VCALENDAR