BEGIN:VCALENDAR
VERSION:2.0
PRODID:-//Solomon&#039;s Knot - ECPv6.15.20//NONSGML v1.0//EN
CALSCALE:GREGORIAN
METHOD:PUBLISH
X-WR-CALNAME:Solomon&#039;s Knot
X-ORIGINAL-URL:https://www.solomonsknot.co.uk
X-WR-CALDESC:Events for Solomon&#039;s Knot
REFRESH-INTERVAL;VALUE=DURATION:PT1H
X-Robots-Tag:noindex
X-PUBLISHED-TTL:PT1H
BEGIN:VTIMEZONE
TZID:Europe/London
BEGIN:DAYLIGHT
TZOFFSETFROM:+0000
TZOFFSETTO:+0100
TZNAME:BST
DTSTART:20140330T010000
END:DAYLIGHT
BEGIN:STANDARD
TZOFFSETFROM:+0100
TZOFFSETTO:+0000
TZNAME:GMT
DTSTART:20141026T010000
END:STANDARD
BEGIN:DAYLIGHT
TZOFFSETFROM:+0000
TZOFFSETTO:+0100
TZNAME:BST
DTSTART:20150329T010000
END:DAYLIGHT
BEGIN:STANDARD
TZOFFSETFROM:+0100
TZOFFSETTO:+0000
TZNAME:GMT
DTSTART:20151025T010000
END:STANDARD
BEGIN:DAYLIGHT
TZOFFSETFROM:+0000
TZOFFSETTO:+0100
TZNAME:BST
DTSTART:20160327T010000
END:DAYLIGHT
BEGIN:STANDARD
TZOFFSETFROM:+0100
TZOFFSETTO:+0000
TZNAME:GMT
DTSTART:20161030T010000
END:STANDARD
END:VTIMEZONE
BEGIN:VEVENT
DTSTART;TZID=Europe/London:20151215T193000
DTEND;TZID=Europe/London:20151215T193000
DTSTAMP:20260420T122558
CREATED:20230529T065334Z
LAST-MODIFIED:20240210T192937Z
UID:5024-1450207800-1450207800@www.solomonsknot.co.uk
SUMMARY:a chamber Christmas Oratorio
DESCRIPTION:JS Bach Weihnachts-Oratorium BWV 248\nCantatas I\, III\, V\, VI \nSolomon’s Knot\n \nSoprano Zoë Brookshaw\, Clare Lloyd-Griffiths\nAlto Michael Czerniawski\, Kate Symonds-Joy\nTenor Gwilym Bowen\, Peter Davoren\nBass Alex Ashworth\, Jonathan Sells (artistic director)\nViolin I John Crockatt (leader)\, Claudia Norz\nViolin II James Toll\, Naomi Burrell\nViola Joanne Miller\, Clifton Harrison\n‘Cello Jonathan Rees\nDouble bass Jan Zahourek\nFlutes Eva Caballero\, Thomas Hancox\nOboes/d’amore Leo Duarte\, Robert de Bree\nBassoon Inga Maria Klaucke\nTrumpet Russell Gilmour\, William Russell\, Gareth Hoddinott\nTimpani Rosemary Toll\nHarpsichord/organ Chad Kelly \nDramatisation Federay Holmes \nReviews\nThe Guardian ⭐️⭐️⭐️⭐️\nThe Times\nPlanet Hugill ⭐️⭐️⭐️⭐️1/2\nAndrew Benson-Wilson
URL:https://www.solomonsknot.co.uk/event/2015-12-15-a-chamber-christmas-oratorio/
LOCATION:Shoreditch Church\, London\, 119 Shoreditch High St\, London\, E1 6JN\, United Kingdom
CATEGORIES:Concert,Past Performance
ATTACH;FMTTYPE=image/jpeg:https://www.solomonsknot.co.uk/wp-content/uploads/2023/05/december-15-2015_solomonsknot_lores_045.jpg
GEO:51.5268671;-0.0775109
X-APPLE-STRUCTURED-LOCATION;VALUE=URI;X-ADDRESS=Shoreditch Church London 119 Shoreditch High St London E1 6JN United Kingdom;X-APPLE-RADIUS=500;X-TITLE=119 Shoreditch High St:geo:-0.0775109,51.5268671
END:VEVENT
END:VCALENDAR