BEGIN:VCALENDAR
VERSION:2.0
PRODID:-//Solomon&#039;s Knot - ECPv6.15.20//NONSGML v1.0//EN
CALSCALE:GREGORIAN
METHOD:PUBLISH
X-WR-CALNAME:Solomon&#039;s Knot
X-ORIGINAL-URL:https://www.solomonsknot.co.uk
X-WR-CALDESC:Events for Solomon&#039;s Knot
REFRESH-INTERVAL;VALUE=DURATION:PT1H
X-Robots-Tag:noindex
X-PUBLISHED-TTL:PT1H
BEGIN:VTIMEZONE
TZID:Europe/London
BEGIN:DAYLIGHT
TZOFFSETFROM:+0000
TZOFFSETTO:+0100
TZNAME:BST
DTSTART:20160327T010000
END:DAYLIGHT
BEGIN:STANDARD
TZOFFSETFROM:+0100
TZOFFSETTO:+0000
TZNAME:GMT
DTSTART:20161030T010000
END:STANDARD
BEGIN:DAYLIGHT
TZOFFSETFROM:+0000
TZOFFSETTO:+0100
TZNAME:BST
DTSTART:20170326T010000
END:DAYLIGHT
BEGIN:STANDARD
TZOFFSETFROM:+0100
TZOFFSETTO:+0000
TZNAME:GMT
DTSTART:20171029T010000
END:STANDARD
BEGIN:DAYLIGHT
TZOFFSETFROM:+0000
TZOFFSETTO:+0100
TZNAME:BST
DTSTART:20180325T010000
END:DAYLIGHT
BEGIN:STANDARD
TZOFFSETFROM:+0100
TZOFFSETTO:+0000
TZNAME:GMT
DTSTART:20181028T010000
END:STANDARD
END:VTIMEZONE
BEGIN:VEVENT
DTSTART;TZID=Europe/London:20170414T193000
DTEND;TZID=Europe/London:20170414T193000
DTSTAMP:20260420T104649
CREATED:20230529T072436Z
LAST-MODIFIED:20250417T095710Z
UID:5047-1492198200-1492198200@www.solomonsknot.co.uk
SUMMARY:St John Passion
DESCRIPTION:JS Bach Johannes-Passion BWV 245\nJ Handl Ecce quomodo moritur justus \nSolomon’s Knot \nSoprano Clare Lloyd-Griffiths\, Laura Oldfield\nAlto Kate Symonds-Joy\, Roderick Morris\nTenor Ruairi Bowen\, Thomas Herford\nBass Alex Ashworth\, Jonathan Sells (artistic director)\nViolin I James Toll\, Guy Button\nViolin II George Clifford\, Naomi Burrell\nViola Joanne Miller\, Jordan Bowron\nCello Jennifer Bullock\nDouble Bass Jan Zahourek\nFlute Eva Caballero\, Thomas Hancox\nOboe Leo Duarte\, Bethan White\nBassoon Inga Maria Klaucke\nOrgan & Harpsichord Chad Kelly \nReview The Times (Libby Purves)
URL:https://www.solomonsknot.co.uk/event/2017-04-14-st-john-passion/
LOCATION:Snape Maltings Concert Hall\, Snape Maltings\, Snape\, Suffolk\, IP17 1SP\, United Kingdom
CATEGORIES:Concert,Past Performance
ATTACH;FMTTYPE=image/jpeg:https://www.solomonsknot.co.uk/wp-content/uploads/2023/05/C9ZiSx7XcAYywfR.jpg_small.jpg
GEO:52.163911;1.496721
X-APPLE-STRUCTURED-LOCATION;VALUE=URI;X-ADDRESS=Snape Maltings Concert Hall Snape Maltings Snape Suffolk IP17 1SP United Kingdom;X-APPLE-RADIUS=500;X-TITLE=Snape Maltings:geo:1.496721,52.163911
END:VEVENT
END:VCALENDAR