BEGIN:VCALENDAR
VERSION:2.0
PRODID:-//Solomon&#039;s Knot - ECPv6.15.20//NONSGML v1.0//EN
CALSCALE:GREGORIAN
METHOD:PUBLISH
X-WR-CALNAME:Solomon&#039;s Knot
X-ORIGINAL-URL:https://www.solomonsknot.co.uk
X-WR-CALDESC:Events for Solomon&#039;s Knot
REFRESH-INTERVAL;VALUE=DURATION:PT1H
X-Robots-Tag:noindex
X-PUBLISHED-TTL:PT1H
BEGIN:VTIMEZONE
TZID:Europe/London
BEGIN:DAYLIGHT
TZOFFSETFROM:+0000
TZOFFSETTO:+0100
TZNAME:BST
DTSTART:20160327T010000
END:DAYLIGHT
BEGIN:STANDARD
TZOFFSETFROM:+0100
TZOFFSETTO:+0000
TZNAME:GMT
DTSTART:20161030T010000
END:STANDARD
BEGIN:DAYLIGHT
TZOFFSETFROM:+0000
TZOFFSETTO:+0100
TZNAME:BST
DTSTART:20170326T010000
END:DAYLIGHT
BEGIN:STANDARD
TZOFFSETFROM:+0100
TZOFFSETTO:+0000
TZNAME:GMT
DTSTART:20171029T010000
END:STANDARD
BEGIN:DAYLIGHT
TZOFFSETFROM:+0000
TZOFFSETTO:+0100
TZNAME:BST
DTSTART:20180325T010000
END:DAYLIGHT
BEGIN:STANDARD
TZOFFSETFROM:+0100
TZOFFSETTO:+0000
TZNAME:GMT
DTSTART:20181028T010000
END:STANDARD
END:VTIMEZONE
BEGIN:VEVENT
DTSTART;TZID=Europe/London:20171218T193000
DTEND;TZID=Europe/London:20171218T193000
DTSTAMP:20260425T044419
CREATED:20221121T071920Z
LAST-MODIFIED:20240226T060503Z
UID:3089-1513625400-1513625400@www.solomonsknot.co.uk
SUMMARY:Mass in B minor
DESCRIPTION:JS Bach Mass in B minor BWV 232 \nSolomon’s Knot\n \nSoprano I Zoë Brookshaw\, Clare Lloyd-Griffiths\nSoprano II Jessica Gillingwater\, Ciara Hendrick\nAlto Kate Symonds-Joy\, Guy James\nTenor Peter Davoren\, Thomas Herford\nBass Alex Ashworth\, Jonathan Sells (artistic director)\nViolin I James Toll\, Guy Button\nViolin II Jamie Campbell\, Beatrice Philips\nViola Joanne Miller\, Victoria Bernath\n‘Cello Jonathan Rees\nDouble bass Jan Zahourek \nFlute Eva Caballero\, Tom Hancox\nOboe/oboe d’amore Leo Duarte\, Robert de Bree\nBassoon Inga Maria Klaucke\nBassoon/oboe Hayley Pullen\nHorn Kathryn Zevenbergen\nTrumpet Russell Gilmour\, William Russell\, Gareth Hoddinott\nTimpani Rosemary Toll \nHarpsichord/organ Chad Kelly \nReviews\nThe Telegraph ⭐️⭐️⭐️⭐️⭐️\nClassical Source ⭐️⭐️⭐️⭐️⭐️\nPlanet Hugill ⭐️⭐️⭐️⭐️1/2\nEvening Standard ⭐️⭐️⭐️⭐️
URL:https://www.solomonsknot.co.uk/event/2017-12-18-mass-in-b-minor/
LOCATION:St John’s Smith Square\, London\, St John's Smith Square\, London\, SW1P 3HA\, United Kingdom
CATEGORIES:Concert,Past Performance
ATTACH;FMTTYPE=image/jpeg:https://www.solomonsknot.co.uk/wp-content/uploads/2022/11/SK-big-group-chairs-Gerard-Collett-TINY-scaled.jpg
GEO:51.4959978;-0.1270108
X-APPLE-STRUCTURED-LOCATION;VALUE=URI;X-ADDRESS=St John’s Smith Square London St John's Smith Square London SW1P 3HA United Kingdom;X-APPLE-RADIUS=500;X-TITLE=St John's Smith Square:geo:-0.1270108,51.4959978
END:VEVENT
END:VCALENDAR