BEGIN:VCALENDAR
VERSION:2.0
PRODID:-//Solomon&#039;s Knot - ECPv6.15.20//NONSGML v1.0//EN
CALSCALE:GREGORIAN
METHOD:PUBLISH
X-WR-CALNAME:Solomon&#039;s Knot
X-ORIGINAL-URL:https://www.solomonsknot.co.uk
X-WR-CALDESC:Events for Solomon&#039;s Knot
REFRESH-INTERVAL;VALUE=DURATION:PT1H
X-Robots-Tag:noindex
X-PUBLISHED-TTL:PT1H
BEGIN:VTIMEZONE
TZID:Europe/Berlin
BEGIN:DAYLIGHT
TZOFFSETFROM:+0100
TZOFFSETTO:+0200
TZNAME:CEST
DTSTART:20220327T010000
END:DAYLIGHT
BEGIN:STANDARD
TZOFFSETFROM:+0200
TZOFFSETTO:+0100
TZNAME:CET
DTSTART:20221030T010000
END:STANDARD
BEGIN:DAYLIGHT
TZOFFSETFROM:+0100
TZOFFSETTO:+0200
TZNAME:CEST
DTSTART:20230326T010000
END:DAYLIGHT
BEGIN:STANDARD
TZOFFSETFROM:+0200
TZOFFSETTO:+0100
TZNAME:CET
DTSTART:20231029T010000
END:STANDARD
BEGIN:DAYLIGHT
TZOFFSETFROM:+0100
TZOFFSETTO:+0200
TZNAME:CEST
DTSTART:20240331T010000
END:DAYLIGHT
BEGIN:STANDARD
TZOFFSETFROM:+0200
TZOFFSETTO:+0100
TZNAME:CET
DTSTART:20241027T010000
END:STANDARD
END:VTIMEZONE
BEGIN:VEVENT
DTSTART;TZID=Europe/Berlin:20230407T190000
DTEND;TZID=Europe/Berlin:20230407T190000
DTSTAMP:20260420T070534
CREATED:20221110T095741Z
LAST-MODIFIED:20240422T185008Z
UID:2922-1680894000-1680894000@www.solomonsknot.co.uk
SUMMARY:St Matthew Passion
DESCRIPTION:JS Bach Matthäus-Passion BWV 244 \nSolomon’s Knot \nEvangelist Thomas Herford \nChorus I \n\n\n\nSoprano Clare Lloyd-Griffiths\nAlto Kate Symonds-Joy\nTenor Tom Kelly\nBass/Jesus Jonathan Sells\nViolin I George Clifford (leader)\, Maxim del Mar\nViolin II Naomi Burrell\, Rebecca Harris\nViola Joanne Miller\nCello/Gamba Jonathan Rees\nDouble bass Jan Zahourek\nFlute I Eva Caballero\nFlute II Marta Gonçalves\nOboe I Daniel Lanthier\nOboe II Robert de Bree\nBassoon Inga Maria Klaucke\nOrgan Chad Kelly \nChorus II\nSoprano Zoë Brookshaw\nAlto Michal Czerniawski\nTenor Rory Carver\nBass Alex Ashworth\nViolin I Magdalena Loth-Hill (leader)\, Andrej Kapor\nViolin II Gabi Jones\, Will McGahon\nViola Jim O’Toole\nCello Gavin Kibble\nDouble bass Jonny Gee\nFlute I Lisete Bull\nFlute II Aimée Taylor\nOboe I Geoffrey Coates\nOboe II Andrés Villalobos Lépiz\nContrabassoon Ester van der Veen\nHarpsichord William Whitehead \nDramatisation John La Bouchardière \nReview Thüringer Allgemeine \nImage © Marco Borggreve
URL:https://www.solomonsknot.co.uk/event/2023-04-07-st-matthew-passion/
LOCATION:Stadtkirche St Peter und Paul\, Weimar\, Herderplatz\, Weimar\, Thuringia\, 99423\, Germany
CATEGORIES:Concert,Past Performance
ATTACH;FMTTYPE=image/jpeg:https://www.solomonsknot.co.uk/wp-content/uploads/2022/11/screenshot-2023-05-04-at-110704.jpg
GEO:50.9808909;11.3293084
X-APPLE-STRUCTURED-LOCATION;VALUE=URI;X-ADDRESS=Stadtkirche St Peter und Paul Weimar Herderplatz Weimar Thuringia 99423 Germany;X-APPLE-RADIUS=500;X-TITLE=Herderplatz:geo:11.3293084,50.9808909
END:VEVENT
END:VCALENDAR