BEGIN:VCALENDAR
VERSION:2.0
PRODID:-//Solomon&#039;s Knot - ECPv6.15.20//NONSGML v1.0//EN
CALSCALE:GREGORIAN
METHOD:PUBLISH
X-WR-CALNAME:Solomon&#039;s Knot
X-ORIGINAL-URL:https://www.solomonsknot.co.uk
X-WR-CALDESC:Events for Solomon&#039;s Knot
REFRESH-INTERVAL;VALUE=DURATION:PT1H
X-Robots-Tag:noindex
X-PUBLISHED-TTL:PT1H
BEGIN:VTIMEZONE
TZID:Europe/London
BEGIN:DAYLIGHT
TZOFFSETFROM:+0000
TZOFFSETTO:+0100
TZNAME:BST
DTSTART:20220327T010000
END:DAYLIGHT
BEGIN:STANDARD
TZOFFSETFROM:+0100
TZOFFSETTO:+0000
TZNAME:GMT
DTSTART:20221030T010000
END:STANDARD
BEGIN:DAYLIGHT
TZOFFSETFROM:+0000
TZOFFSETTO:+0100
TZNAME:BST
DTSTART:20230326T010000
END:DAYLIGHT
BEGIN:STANDARD
TZOFFSETFROM:+0100
TZOFFSETTO:+0000
TZNAME:GMT
DTSTART:20231029T010000
END:STANDARD
BEGIN:DAYLIGHT
TZOFFSETFROM:+0000
TZOFFSETTO:+0100
TZNAME:BST
DTSTART:20240331T010000
END:DAYLIGHT
BEGIN:STANDARD
TZOFFSETFROM:+0100
TZOFFSETTO:+0000
TZNAME:GMT
DTSTART:20241027T010000
END:STANDARD
END:VTIMEZONE
BEGIN:VEVENT
DTSTART;TZID=Europe/London:20230412T190000
DTEND;TZID=Europe/London:20230412T190000
DTSTAMP:20260420T105015
CREATED:20220921T081931Z
LAST-MODIFIED:20240422T185232Z
UID:1827-1681326000-1681326000@www.solomonsknot.co.uk
SUMMARY:St Matthew Passion
DESCRIPTION:JS Bach Matthäus-Passion BWV 244 \n\n\n\n\n\nSolomon’s Knot \nEvangelist Ruairi Bowen \nChorus I\nSoprano Clare Lloyd-Griffiths\nAlto Kate Symonds-Joy\nTenor Tom Kelly\nBass/Jesus Jonathan Sells (artistic director)\nViolin I George Clifford (leader)\, Maxim del Mar\nViolin II Naomi Burrell\, Rebecca Harris\nViola Joanne Miller\nCello/Gamba Jonathan Rees\nDouble bass Jan Zahourek\nFlute I Eva Caballero\nFlute II Marta Gonçalves\nOboe I Daniel Lanthier\nOboe II Robert de Bree\nBassoon Inga Maria Klaucke\nOrgan Chad Kelly \n\n\n\nChorus II\nSoprano Zoë Brookshaw\nAlto Michal Czerniawski\nTenor Rory Carver\nBass Alex Ashworth\nViolin I Magdalena Loth-Hill (leader)\, Andrej Kapor\nViolin II Gabi Jones\, Will McGahon\nViola Jim O’Toole\nCello Gavin Kibble\nDouble bass Jonny Gee\nFlute I Lisete Bull\nFlute II Aimée Taylor\nOboe I Geoffrey Coates\nOboe II Andrés Villalobos Lépiz\nContrabassoon Ester van der Veen\nHarpsichord William Whitehead \nDramatisation John La Bouchardière \nWith our thanks to Dr Barry Tennison for longstanding support\, and for making this particular concert possible. \nPhoto credit: Andrew Wilkinson Photography
URL:https://www.solomonsknot.co.uk/event/2023-04-12-st-matthew-passion/
LOCATION:Trinity College Chapel\, Cambridge\, Trinity College\, Cambridge\, CB2 1TQ\, United Kingdom
CATEGORIES:Concert,Past Performance
ATTACH;FMTTYPE=image/jpeg:https://www.solomonsknot.co.uk/wp-content/uploads/2022/09/249-cem-solomons-knot-120423-large-nz6_5310-nef-edit-credit-andrew-wilkinson-photography-small-scaled.jpg
GEO:52.2069212;0.116913
X-APPLE-STRUCTURED-LOCATION;VALUE=URI;X-ADDRESS=Trinity College Chapel Cambridge Trinity College Cambridge CB2 1TQ United Kingdom;X-APPLE-RADIUS=500;X-TITLE=Trinity College:geo:0.116913,52.2069212
END:VEVENT
END:VCALENDAR