BEGIN:VCALENDAR
VERSION:2.0
PRODID:-//Solomon&#039;s Knot - ECPv6.15.20//NONSGML v1.0//EN
CALSCALE:GREGORIAN
METHOD:PUBLISH
X-WR-CALNAME:Solomon&#039;s Knot
X-ORIGINAL-URL:https://www.solomonsknot.co.uk
X-WR-CALDESC:Events for Solomon&#039;s Knot
REFRESH-INTERVAL;VALUE=DURATION:PT1H
X-Robots-Tag:noindex
X-PUBLISHED-TTL:PT1H
BEGIN:VTIMEZONE
TZID:Europe/Berlin
BEGIN:DAYLIGHT
TZOFFSETFROM:+0100
TZOFFSETTO:+0200
TZNAME:CEST
DTSTART:20230326T010000
END:DAYLIGHT
BEGIN:STANDARD
TZOFFSETFROM:+0200
TZOFFSETTO:+0100
TZNAME:CET
DTSTART:20231029T010000
END:STANDARD
BEGIN:DAYLIGHT
TZOFFSETFROM:+0100
TZOFFSETTO:+0200
TZNAME:CEST
DTSTART:20240331T010000
END:DAYLIGHT
BEGIN:STANDARD
TZOFFSETFROM:+0200
TZOFFSETTO:+0100
TZNAME:CET
DTSTART:20241027T010000
END:STANDARD
BEGIN:DAYLIGHT
TZOFFSETFROM:+0100
TZOFFSETTO:+0200
TZNAME:CEST
DTSTART:20250330T010000
END:DAYLIGHT
BEGIN:STANDARD
TZOFFSETFROM:+0200
TZOFFSETTO:+0100
TZNAME:CET
DTSTART:20251026T010000
END:STANDARD
END:VTIMEZONE
BEGIN:VEVENT
DTSTART;TZID=Europe/Berlin:20240525T193000
DTEND;TZID=Europe/Berlin:20240525T193000
DTSTAMP:20260420T104647
CREATED:20230927T142513Z
LAST-MODIFIED:20240706T062046Z
UID:5936-1716665400-1716665400@www.solomonsknot.co.uk
SUMMARY:Handel Esther 1720/1732
DESCRIPTION:GF Handel Esther HWV 50a (earliest reconstructible version 1720/Bernard Gates revival 1732) \nSOLOMON’S KNOT \nEsther Zoë Brookshaw\nAhasuerus Xavier Hetherington\nHaman Alex Ashworth\nMordecai Joseph Doody\nIsraelite Boy Clare Lloyd-Griffiths\n1st Israelite Thomas Herford\nPriest of the Israelites Kate Symonds-Joy\nPriest of the Israelites James Hall\nHabdonah\, Officer\, 2nd Israelite David de Winter\nBass Jonathan Sells (artistic director) \nViolin I George Clifford (leader)\, Maxim del Mar\nViolin II Gabi Jones\, Will McGahon\nViola Joanne Miller\nCello Gavin Kibble\nDouble Bass Jan Zahourek \nFlute Eva Caballero\nOboe Daniel Lanthier\nBassoon Inga Maria Klaucke (l)\, Sally Holman\n\nHorn Kathryn Zevenbergen (l)\, Kate Goldsmith\nTrumpet Fruzsina Hara\n\nHarp Aileen Henry\n\nTheorbo Josep Maria Martí Duran\nHarpsichord & Organ James Johnstone \nReview Ruch Muzyczny
URL:https://www.solomonsknot.co.uk/event/2023-05-25-esther/
LOCATION:Dom zu Halle\, Domstraße 3\, Halle (Saale)\, 06108\, Germany
CATEGORIES:Concert,Past Performance
ATTACH;FMTTYPE=image/jpeg:https://www.solomonsknot.co.uk/wp-content/uploads/2023/12/240526-Esther-Handel-Festspiele-Halle-2024-©-Thoms-Ziegler-16-scaled.jpg
GEO:51.4837159;11.9650008
X-APPLE-STRUCTURED-LOCATION;VALUE=URI;X-ADDRESS=Dom zu Halle Domstraße 3 Halle (Saale) 06108 Germany;X-APPLE-RADIUS=500;X-TITLE=Domstraße 3:geo:11.9650008,51.4837159
END:VEVENT
END:VCALENDAR