BEGIN:VCALENDAR
VERSION:2.0
PRODID:-//Solomon&#039;s Knot - ECPv6.15.20//NONSGML v1.0//EN
CALSCALE:GREGORIAN
METHOD:PUBLISH
X-WR-CALNAME:Solomon&#039;s Knot
X-ORIGINAL-URL:https://www.solomonsknot.co.uk
X-WR-CALDESC:Events for Solomon&#039;s Knot
REFRESH-INTERVAL;VALUE=DURATION:PT1H
X-Robots-Tag:noindex
X-PUBLISHED-TTL:PT1H
BEGIN:VTIMEZONE
TZID:America/New_York
BEGIN:DAYLIGHT
TZOFFSETFROM:-0500
TZOFFSETTO:-0400
TZNAME:EDT
DTSTART:20230312T070000
END:DAYLIGHT
BEGIN:STANDARD
TZOFFSETFROM:-0400
TZOFFSETTO:-0500
TZNAME:EST
DTSTART:20231105T060000
END:STANDARD
BEGIN:DAYLIGHT
TZOFFSETFROM:-0500
TZOFFSETTO:-0400
TZNAME:EDT
DTSTART:20240310T070000
END:DAYLIGHT
BEGIN:STANDARD
TZOFFSETFROM:-0400
TZOFFSETTO:-0500
TZNAME:EST
DTSTART:20241103T060000
END:STANDARD
BEGIN:DAYLIGHT
TZOFFSETFROM:-0500
TZOFFSETTO:-0400
TZNAME:EDT
DTSTART:20250309T070000
END:DAYLIGHT
BEGIN:STANDARD
TZOFFSETFROM:-0400
TZOFFSETTO:-0500
TZNAME:EST
DTSTART:20251102T060000
END:STANDARD
END:VTIMEZONE
BEGIN:VEVENT
DTSTART;TZID=America/New_York:20241129T193000
DTEND;TZID=America/New_York:20241129T193000
DTSTAMP:20260420T104901
CREATED:20240501T112940Z
LAST-MODIFIED:20241210T224258Z
UID:7900-1732908600-1732908600@www.solomonsknot.co.uk
SUMMARY:Bach Motets
DESCRIPTION:Fürchte dich nicht \nJohann Sebastian Bach (1685-1750)Fürchte dich nichtKomm\, Jesu\, kommJesu\, meine FreudeDer Geist hilft unser Schwachheit aufSinget dem Herrn ein neues Lied \nJohann Christoph Bach (1642-1703)Fürchte dich nichtLieber Herr Gott\, wecke uns aufHerr\, nun lässest du deinen Diener in Friede fahrenDer Gerechte\, ob er gleich zu zeitlich stirbt \nSOLOMON’S KNOT Soprano Zoë Brookshaw\, Rebecca Lea\, Ellen TorrieAlto Kate Symonds-Joy\, Nathan Mercieca Tenor Thomas Herford\, James Robinson Bass Jonathan Sells (artistic director)\, Alex Ashworth \nReview Ludwig van Montréal
URL:https://www.solomonsknot.co.uk/event/2024-11-29-bach-motets/
LOCATION:St. George’s\, Montréal\, 1001 Av. des Canadiens-de-Montréal\, Montréal\, QC\, H3B 3B3\, Canada
CATEGORIES:Concert,Past Performance
ATTACH;FMTTYPE=image/jpeg:https://www.solomonsknot.co.uk/wp-content/uploads/2024/05/IMG_0586.jpg
GEO:45.4977205;-73.5693648
X-APPLE-STRUCTURED-LOCATION;VALUE=URI;X-ADDRESS=St. George’s Montréal 1001 Av. des Canadiens-de-Montréal Montréal QC H3B 3B3 Canada;X-APPLE-RADIUS=500;X-TITLE=1001 Av. des Canadiens-de-Montréal:geo:-73.5693648,45.4977205
END:VEVENT
END:VCALENDAR