BEGIN:VCALENDAR
VERSION:2.0
PRODID:-//Solomon&#039;s Knot - ECPv6.15.20//NONSGML v1.0//EN
CALSCALE:GREGORIAN
METHOD:PUBLISH
X-WR-CALNAME:Solomon&#039;s Knot
X-ORIGINAL-URL:https://www.solomonsknot.co.uk
X-WR-CALDESC:Events for Solomon&#039;s Knot
REFRESH-INTERVAL;VALUE=DURATION:PT1H
X-Robots-Tag:noindex
X-PUBLISHED-TTL:PT1H
BEGIN:VTIMEZONE
TZID:Europe/London
BEGIN:DAYLIGHT
TZOFFSETFROM:+0000
TZOFFSETTO:+0100
TZNAME:BST
DTSTART:20240331T010000
END:DAYLIGHT
BEGIN:STANDARD
TZOFFSETFROM:+0100
TZOFFSETTO:+0000
TZNAME:GMT
DTSTART:20241027T010000
END:STANDARD
BEGIN:DAYLIGHT
TZOFFSETFROM:+0000
TZOFFSETTO:+0100
TZNAME:BST
DTSTART:20250330T010000
END:DAYLIGHT
BEGIN:STANDARD
TZOFFSETFROM:+0100
TZOFFSETTO:+0000
TZNAME:GMT
DTSTART:20251026T010000
END:STANDARD
BEGIN:DAYLIGHT
TZOFFSETFROM:+0000
TZOFFSETTO:+0100
TZNAME:BST
DTSTART:20260329T010000
END:DAYLIGHT
BEGIN:STANDARD
TZOFFSETFROM:+0100
TZOFFSETTO:+0000
TZNAME:GMT
DTSTART:20261025T010000
END:STANDARD
END:VTIMEZONE
BEGIN:VEVENT
DTSTART;TZID=Europe/London:20251222T193000
DTEND;TZID=Europe/London:20251222T193000
DTSTAMP:20260420T092218
CREATED:20250409T104013Z
LAST-MODIFIED:20260326T235754Z
UID:9136-1766431800-1766431800@www.solomonsknot.co.uk
SUMMARY:Handel Israel in Egypt
DESCRIPTION:GF Handel Israel in Egypt HWV 54 \nSOLOMON’S KNOT \nSoprano Zoë Brookshaw\, Rebecca Lea\nAlto Kate Symonds-Joy\, William Shelton\nTenor Thomas Herford\, David de Winter\nBass Jonathan Sells (artistic director)\, Alex Ashworth \nViolin I George Clifford (leader)\, Gabi Jones\nViolin II Will McGahon\, James Toll\nViola Joanne Miller\nCello Sarah McMahon\nDouble Bass Jan Zahourek \nOboe I Daniel Lanthier\nOboe II/Voice flute Robert de Bree\nBassoon I Inga Maria Klaucke\nBassoon II Ester van der Veen \nTrumpet Fruzsina Hara\, Thom Hewitt\nTrombone Emily White\, Claire McIntyre\, Adam Crighton \nTimpani Ben Fullbrook \nHarpsichord / Organ James Johnstone \nReviews\nThe Times ⭐️⭐️⭐️⭐️\nSeen and Heard International\nPlanet Hugill
URL:https://www.solomonsknot.co.uk/event/2025-12-22-handel-israel-in-egypt/
LOCATION:Wigmore Hall\, London\, 36 Wigmore Street\, London\, W1U 2BP\, United Kingdom
CATEGORIES:Concert,Past Performance
ATTACH;FMTTYPE=image/jpeg:https://www.solomonsknot.co.uk/wp-content/uploads/2025/04/Feuerbach_Mirjam_2-e1744194608170.jpg
GEO:51.5166;-0.1482248
X-APPLE-STRUCTURED-LOCATION;VALUE=URI;X-ADDRESS=Wigmore Hall London 36 Wigmore Street London W1U 2BP United Kingdom;X-APPLE-RADIUS=500;X-TITLE=36 Wigmore Street:geo:-0.1482248,51.5166
END:VEVENT
END:VCALENDAR