BEGIN:VCALENDAR
VERSION:2.0
PRODID:-//Solomon&#039;s Knot - ECPv6.15.20//NONSGML v1.0//EN
CALSCALE:GREGORIAN
METHOD:PUBLISH
X-WR-CALNAME:Solomon&#039;s Knot
X-ORIGINAL-URL:https://www.solomonsknot.co.uk
X-WR-CALDESC:Events for Solomon&#039;s Knot
REFRESH-INTERVAL;VALUE=DURATION:PT1H
X-Robots-Tag:noindex
X-PUBLISHED-TTL:PT1H
BEGIN:VTIMEZONE
TZID:Europe/London
BEGIN:DAYLIGHT
TZOFFSETFROM:+0000
TZOFFSETTO:+0100
TZNAME:BST
DTSTART:20250330T010000
END:DAYLIGHT
BEGIN:STANDARD
TZOFFSETFROM:+0100
TZOFFSETTO:+0000
TZNAME:GMT
DTSTART:20251026T010000
END:STANDARD
BEGIN:DAYLIGHT
TZOFFSETFROM:+0000
TZOFFSETTO:+0100
TZNAME:BST
DTSTART:20260329T010000
END:DAYLIGHT
BEGIN:STANDARD
TZOFFSETFROM:+0100
TZOFFSETTO:+0000
TZNAME:GMT
DTSTART:20261025T010000
END:STANDARD
BEGIN:DAYLIGHT
TZOFFSETFROM:+0000
TZOFFSETTO:+0100
TZNAME:BST
DTSTART:20270328T010000
END:DAYLIGHT
BEGIN:STANDARD
TZOFFSETFROM:+0100
TZOFFSETTO:+0000
TZNAME:GMT
DTSTART:20271031T010000
END:STANDARD
END:VTIMEZONE
BEGIN:VEVENT
DTSTART;TZID=Europe/London:20260710T193000
DTEND;TZID=Europe/London:20260710T213000
DTSTAMP:20260420T020540
CREATED:20251215T211224Z
LAST-MODIFIED:20260306T093113Z
UID:9789-1783711800-1783719000@www.solomonsknot.co.uk
SUMMARY:Bach300: Hamburg St Mark Passion 1726
DESCRIPTION:Bach performed a St Mark Passion several times\, which was composed in Hamburg before 1710 and has been attributed to various composers over the years\, including Reinhard Keiser. There is hardly any other work by a contemporary with which Bach engaged as frequently and intensively as with this Passion setting. Of the surviving versions\, which Bach edited and supplemented in different ways (Weimar 1713\, Leipzig 1726 and 1747)\, Solomon’s Knot presents the version that was performed exactly 300 years ago in St. Thomas Church during Holy Week\, offering the audience this rarely heard\, expressive music of the North German Baroque tradition – another fascinating example of Bach’s inspirations and sonic models. \nReinhard Keiser (attrib.) (1674-1739)\nMarkus-Passion [arr. JS Bach 1726] \nSOLOMON’S KNOT \nSoprano Zoë Brookshaw\, Stephanie Pfeffer\nAlto Kate Symonds-Joy\, Nathan Mercieca\nTenor Thomas Herford\, Gwilym Bowen\nBass Jonathan Sells (Artistic Director)\, Alex Ashworth \nViolin I George Clifford (leader)\nViolin II Gabi Jones\nViola Joanne Miller\, Nichola Blakey\nTheorbo Toby Carr\nCello Kate Conway\nDouble Bass Jan Zahourek \nOrgan & Harpsichord William Whitehead
URL:https://www.solomonsknot.co.uk/event/2026-07-10-bach300-hamburg-st-mark-passion-1726/
LOCATION:York Minster\, York\, York Minster\, York\, YO1 7HH\, United Kingdom
CATEGORIES:BACH300 Series,Concert
ATTACH;FMTTYPE=image/png:https://www.solomonsknot.co.uk/wp-content/uploads/2025/12/Artboard-1.png
GEO:53.9623292;-1.0819205
X-APPLE-STRUCTURED-LOCATION;VALUE=URI;X-ADDRESS=York Minster York York Minster York YO1 7HH United Kingdom;X-APPLE-RADIUS=500;X-TITLE=York Minster:geo:-1.0819205,53.9623292
END:VEVENT
END:VCALENDAR